BEGIN:VCALENDAR
VERSION:2.0
METHOD:PUBLISH
PRODID:-//Accessible Web Design//My Calendar//http://www.joedolson.com//v//EN';
BEGIN:VEVENT
UID:118-48
LOCATION:FSV 1864 Südlandstraße 6  Mauer NÖ 3362
SUMMARY:MITGLIEDERVOLLVERSAMMLUNG
DTSTAMP:20260214T180000
ORGANIZER;CN=Roland Wührleitner:MAILTO:fsv1864amstetten@gmx.at
DTSTART:20260214T180000
DTEND:20260214T190000
CATEGORIES:Sozial
URL;VALUE=URI:
DESCRIPTION;ENCODING=QUOTED-PRINTABLE: 
END:VEVENT
END:VCALENDAR