BEGIN:VCALENDAR
VERSION:2.0
METHOD:PUBLISH
PRODID:-//Accessible Web Design//My Calendar//http://www.joedolson.com//v//EN';
BEGIN:VEVENT
UID:89-16
LOCATION:FSV 1864 Südlandstraße 6  Mauer NÖ 3362
SUMMARY:ISSF Brandl Cup - 3. Runde
DTSTAMP:20250503T170000
ORGANIZER;CN=Roland Wührleitner:MAILTO:fsv1864amstetten@gmx.at
DTSTART:20250503T170000
DTEND:20250503T180000
CATEGORIES:ISSF
URL;VALUE=URI:
DESCRIPTION;ENCODING=QUOTED-PRINTABLE:Nähere Infos siehe Ausschreibungen 
END:VEVENT
END:VCALENDAR