BEGIN:VCALENDAR
VERSION:2.0
METHOD:PUBLISH
PRODID:-//Accessible Web Design//My Calendar//http://www.joedolson.com//v//EN';
BEGIN:VEVENT
UID:105-28
LOCATION:FSV 1864 Südlandstraße 6  Mauer NÖ 3362
SUMMARY:IPSC-VereinsCup – 4. Runde -&gt; verschoben 21.11.
DTSTAMP:20251025T140000
ORGANIZER;CN=Roland Wührleitner:MAILTO:fsv1864amstetten@gmx.at
DTSTART:20251025T140000
DTEND:20251025T150000
CATEGORIES:IPSC
URL;VALUE=URI:
DESCRIPTION;ENCODING=QUOTED-PRINTABLE: 
END:VEVENT
END:VCALENDAR