BEGIN:VCALENDAR
VERSION:2.0
METHOD:PUBLISH
PRODID:-//Accessible Web Design//My Calendar//http://www.joedolson.com//v//EN';
BEGIN:VEVENT
UID:107-40
LOCATION:FSV 1864 Südlandstraße 6  Mauer NÖ 3362
SUMMARY:IPSC-VereinsCup – 4. Runde - ursprünglicher Termin 25.10.
DTSTAMP:20251121
ORGANIZER;CN=Roland Wührleitner:MAILTO:fsv1864amstetten@gmx.at
DTSTART:20251121
DTEND:20251124
CATEGORIES:CAS
URL;VALUE=URI:
DESCRIPTION;ENCODING=QUOTED-PRINTABLE: 
X-FUNAMBOL-ALLDAY: 1
X-MICROSOFT-CDO-ALLDAYEVENT: TRUE

END:VEVENT
END:VCALENDAR