BEGIN:VCALENDAR
VERSION:2.0
METHOD:PUBLISH
PRODID:-//Accessible Web Design//My Calendar//http://www.joedolson.com//v//EN';
BEGIN:VEVENT
UID:103-26
LOCATION:FSV 1864 Südlandstraße 6  Mauer NÖ 3362
SUMMARY:Großkaliber Cup 4. Runde und Vereinsmeisterschaft
DTSTAMP:20251004T140000
ORGANIZER;CN=Roland Wührleitner:MAILTO:fsv1864amstetten@gmx.at
DTSTART:20251004T140000
DTEND:20251004T150000
CATEGORIES:SKGKP
URL;VALUE=URI:
DESCRIPTION;ENCODING=QUOTED-PRINTABLE:Nähere Infos siehe Ausschreibungen 
END:VEVENT
END:VCALENDAR