BEGIN:VCALENDAR
VERSION:2.0
METHOD:PUBLISH
PRODID:-//Accessible Web Design//My Calendar//http://www.joedolson.com//v//EN';
BEGIN:VEVENT
UID:102-25
LOCATION:FSV 1864 Südlandstraße 6  Mauer NÖ 3362
SUMMARY:Extra Bewerb – 4. Runde
DTSTAMP:20251003T160000
ORGANIZER;CN=Roland Wührleitner:MAILTO:fsv1864amstetten@gmx.at
DTSTART:20251003T160000
DTEND:20251003T180000
CATEGORIES:SKGKP
URL;VALUE=URI:
DESCRIPTION;ENCODING=QUOTED-PRINTABLE:Nähere Infos siehe Ausschreibungen 
END:VEVENT
END:VCALENDAR