BEGIN:VCALENDAR
VERSION:2.0
METHOD:PUBLISH
PRODID:-//Accessible Web Design//My Calendar//http://www.joedolson.com//v//EN';
BEGIN:VEVENT
UID:94-15
LOCATION:FSV 1864 Südlandstraße 6  Mauer NÖ 3362
SUMMARY:CAS-VereinsCup – 2. Runde
DTSTAMP:20250614T140000
ORGANIZER;CN=Roland Wührleitner:MAILTO:fsv1864amstetten@gmx.at
DTSTART:20250614T140000
DTEND:20250614T150000
CATEGORIES:CAS
URL;VALUE=URI:
DESCRIPTION;ENCODING=QUOTED-PRINTABLE: 
END:VEVENT
END:VCALENDAR