BEGIN:VCALENDAR
VERSION:2.0
METHOD:PUBLISH
PRODID:-//Accessible Web Design//My Calendar//http://www.joedolson.com//v//EN';
BEGIN:VEVENT
UID:128-58
LOCATION:FSV 1864 Südlandstraße 6  Mauer NÖ 3362
SUMMARY:BEZIRKSMEISTERSCHAFT ISSF, SPP, ZF (Beginn lt. Ausschreibung)
DTSTAMP:20260626
ORGANIZER;CN=Roland Wührleitner:MAILTO:fsv1864amstetten@gmx.at
DTSTART:20260626
DTEND:20260628
CATEGORIES:ISSF
URL;VALUE=URI:
DESCRIPTION;ENCODING=QUOTED-PRINTABLE: 
X-FUNAMBOL-ALLDAY: 1
X-MICROSOFT-CDO-ALLDAYEVENT: TRUE

END:VEVENT
END:VCALENDAR